BEGIN:VCALENDAR
VERSION:2.0
PRODID:-//Tspoons Cooking Classes - ECPv6.15.20//NONSGML v1.0//EN
CALSCALE:GREGORIAN
METHOD:PUBLISH
X-WR-CALNAME:Tspoons Cooking Classes
X-ORIGINAL-URL:https://tspoons.com
X-WR-CALDESC:Events for Tspoons Cooking Classes
REFRESH-INTERVAL;VALUE=DURATION:PT1H
X-Robots-Tag:noindex
X-PUBLISHED-TTL:PT1H
BEGIN:VTIMEZONE
TZID:America/Los_Angeles
BEGIN:DAYLIGHT
TZOFFSETFROM:-0800
TZOFFSETTO:-0700
TZNAME:PDT
DTSTART:20230312T100000
END:DAYLIGHT
BEGIN:STANDARD
TZOFFSETFROM:-0700
TZOFFSETTO:-0800
TZNAME:PST
DTSTART:20231105T090000
END:STANDARD
BEGIN:DAYLIGHT
TZOFFSETFROM:-0800
TZOFFSETTO:-0700
TZNAME:PDT
DTSTART:20240310T100000
END:DAYLIGHT
BEGIN:STANDARD
TZOFFSETFROM:-0700
TZOFFSETTO:-0800
TZNAME:PST
DTSTART:20241103T090000
END:STANDARD
BEGIN:DAYLIGHT
TZOFFSETFROM:-0800
TZOFFSETTO:-0700
TZNAME:PDT
DTSTART:20250309T100000
END:DAYLIGHT
BEGIN:STANDARD
TZOFFSETFROM:-0700
TZOFFSETTO:-0800
TZNAME:PST
DTSTART:20251102T090000
END:STANDARD
END:VTIMEZONE
BEGIN:VEVENT
DTSTART;TZID=America/Los_Angeles:20240726T130000
DTEND;TZID=America/Los_Angeles:20240726T153000
DTSTAMP:20260424T075848
CREATED:20240228T222536Z
LAST-MODIFIED:20240723T130418Z
UID:105537-1721998800-1722007800@tspoons.com
SUMMARY:3 Day Summer Cooking Series: Kids in the Kitchen (Ages 8-12) -CLASS FULL: PLEASE EMAIL TO BE WAITLISTED
DESCRIPTION:Join Tspoons for a few fun summer days of cooking delicious dishes from scratch! Each day will focus on new recipes and cooking techniques that will build upon your child’s culinary talents and inspire them to whip up impressive dishes for the family. Day 1: American Regional Foods / Day 2: International Favorites / Day 3: Desserts from Around the World.  (Vegetarian substitution available upon advance request)
URL:https://tspoons.com/class/3-day-summer-cooking-series-kids-in-the-kitchen-ages-8-12-10/2024-07-26/
LOCATION:Tspoons\, 31770 Camino Capistrano\, Suite D\, San Juan Capistrano\, CA\, 92675\, United States
ORGANIZER;CN="Tspoons":MAILTO:tspoons@tspoons.com
GEO:33.5015236;-117.6625623
X-APPLE-STRUCTURED-LOCATION;VALUE=URI;X-ADDRESS=Tspoons 31770 Camino Capistrano Suite D San Juan Capistrano CA 92675 United States;X-APPLE-RADIUS=500;X-TITLE=31770 Camino Capistrano\, Suite D:geo:-117.6625623,33.5015236
END:VEVENT
BEGIN:VEVENT
DTSTART;TZID=America/Los_Angeles:20240725T130000
DTEND;TZID=America/Los_Angeles:20240725T153000
DTSTAMP:20260424T075848
CREATED:20240228T222536Z
LAST-MODIFIED:20240723T130417Z
UID:105536-1721912400-1721921400@tspoons.com
SUMMARY:3 Day Summer Cooking Series: Kids in the Kitchen (Ages 8-12) -CLASS FULL: PLEASE EMAIL TO BE WAITLISTED
DESCRIPTION:Join Tspoons for a few fun summer days of cooking delicious dishes from scratch! Each day will focus on new recipes and cooking techniques that will build upon your child’s culinary talents and inspire them to whip up impressive dishes for the family. Day 1: American Regional Foods / Day 2: International Favorites / Day 3: Desserts from Around the World.  (Vegetarian substitution available upon advance request)
URL:https://tspoons.com/class/3-day-summer-cooking-series-kids-in-the-kitchen-ages-8-12-10/2024-07-25/
LOCATION:Tspoons\, 31770 Camino Capistrano\, Suite D\, San Juan Capistrano\, CA\, 92675\, United States
ORGANIZER;CN="Tspoons":MAILTO:tspoons@tspoons.com
GEO:33.5015236;-117.6625623
X-APPLE-STRUCTURED-LOCATION;VALUE=URI;X-ADDRESS=Tspoons 31770 Camino Capistrano Suite D San Juan Capistrano CA 92675 United States;X-APPLE-RADIUS=500;X-TITLE=31770 Camino Capistrano\, Suite D:geo:-117.6625623,33.5015236
END:VEVENT
BEGIN:VEVENT
DTSTART;TZID=America/Los_Angeles:20240724T130000
DTEND;TZID=America/Los_Angeles:20240724T153000
DTSTAMP:20260424T075848
CREATED:20240228T222536Z
LAST-MODIFIED:20240723T130416Z
UID:105080-1721826000-1721835000@tspoons.com
SUMMARY:3 Day Summer Cooking Series: Kids in the Kitchen (Ages 8-12) -CLASS FULL: PLEASE EMAIL TO BE WAITLISTED
DESCRIPTION:Join Tspoons for a few fun summer days of cooking delicious dishes from scratch! Each day will focus on new recipes and cooking techniques that will build upon your child’s culinary talents and inspire them to whip up impressive dishes for the family. Day 1: American Regional Foods / Day 2: International Favorites / Day 3: Desserts from Around the World.  (Vegetarian substitution available upon advance request)
URL:https://tspoons.com/class/3-day-summer-cooking-series-kids-in-the-kitchen-ages-8-12-10/2024-07-24/
LOCATION:Tspoons\, 31770 Camino Capistrano\, Suite D\, San Juan Capistrano\, CA\, 92675\, United States
ORGANIZER;CN="Tspoons":MAILTO:tspoons@tspoons.com
GEO:33.5015236;-117.6625623
X-APPLE-STRUCTURED-LOCATION;VALUE=URI;X-ADDRESS=Tspoons 31770 Camino Capistrano Suite D San Juan Capistrano CA 92675 United States;X-APPLE-RADIUS=500;X-TITLE=31770 Camino Capistrano\, Suite D:geo:-117.6625623,33.5015236
END:VEVENT
END:VCALENDAR