BEGIN:VCALENDAR
VERSION:2.0
PRODID:-//Tspoons Cooking Classes - ECPv6.15.20//NONSGML v1.0//EN
CALSCALE:GREGORIAN
METHOD:PUBLISH
X-WR-CALNAME:Tspoons Cooking Classes
X-ORIGINAL-URL:https://tspoons.com
X-WR-CALDESC:Events for Tspoons Cooking Classes
REFRESH-INTERVAL;VALUE=DURATION:PT1H
X-Robots-Tag:noindex
X-PUBLISHED-TTL:PT1H
BEGIN:VTIMEZONE
TZID:America/Los_Angeles
BEGIN:DAYLIGHT
TZOFFSETFROM:-0800
TZOFFSETTO:-0700
TZNAME:PDT
DTSTART:20250309T100000
END:DAYLIGHT
BEGIN:STANDARD
TZOFFSETFROM:-0700
TZOFFSETTO:-0800
TZNAME:PST
DTSTART:20251102T090000
END:STANDARD
BEGIN:DAYLIGHT
TZOFFSETFROM:-0800
TZOFFSETTO:-0700
TZNAME:PDT
DTSTART:20260308T100000
END:DAYLIGHT
BEGIN:STANDARD
TZOFFSETFROM:-0700
TZOFFSETTO:-0800
TZNAME:PST
DTSTART:20261101T090000
END:STANDARD
BEGIN:DAYLIGHT
TZOFFSETFROM:-0800
TZOFFSETTO:-0700
TZNAME:PDT
DTSTART:20270314T100000
END:DAYLIGHT
BEGIN:STANDARD
TZOFFSETFROM:-0700
TZOFFSETTO:-0800
TZNAME:PST
DTSTART:20271107T090000
END:STANDARD
END:VTIMEZONE
BEGIN:VEVENT
DTSTART;TZID=America/Los_Angeles:20260417T180000
DTEND;TZID=America/Los_Angeles:20260417T210000
DTSTAMP:20260423T015643
CREATED:20260304T215207Z
LAST-MODIFIED:20260304T215207Z
UID:123587-1776448800-1776459600@tspoons.com
SUMMARY:Date Night : Handmade Pastas and Sauces - COUPLES ONLY
DESCRIPTION:Fresh pasta will beat out store bought anytime! And it’s so easy to make! \n\nPasta Puttanesca with Homemade Fettucine and Grilled Shrimp\nChicken and Roasted Poblano Ravioli with Herbed Cream Sauce\nHandmade Garganelli with Italian Sausage Bolognese\nRefreshing mango sorbet to finish!\n\n(Please note gluten free adjustments are not available for this class.)
URL:https://tspoons.com/class/date-night-handmade-pastas-and-sauces-couples-only/
LOCATION:Tspoons\, 31770 Camino Capistrano\, Suite D\, San Juan Capistrano\, CA\, 92675\, United States
CATEGORIES:April 2026 Classes,Available
ORGANIZER;CN="Tspoons":MAILTO:tspoons@tspoons.com
GEO:33.5015236;-117.6625623
X-APPLE-STRUCTURED-LOCATION;VALUE=URI;X-ADDRESS=Tspoons 31770 Camino Capistrano Suite D San Juan Capistrano CA 92675 United States;X-APPLE-RADIUS=500;X-TITLE=31770 Camino Capistrano\, Suite D:geo:-117.6625623,33.5015236
END:VEVENT
END:VCALENDAR