BEGIN:VCALENDAR
VERSION:2.0
PRODID:-//Tspoons Cooking Classes - ECPv6.15.20//NONSGML v1.0//EN
CALSCALE:GREGORIAN
METHOD:PUBLISH
X-WR-CALNAME:Tspoons Cooking Classes
X-ORIGINAL-URL:https://tspoons.com
X-WR-CALDESC:Events for Tspoons Cooking Classes
REFRESH-INTERVAL;VALUE=DURATION:PT1H
X-Robots-Tag:noindex
X-PUBLISHED-TTL:PT1H
BEGIN:VTIMEZONE
TZID:America/Los_Angeles
BEGIN:DAYLIGHT
TZOFFSETFROM:-0800
TZOFFSETTO:-0700
TZNAME:PDT
DTSTART:20230312T100000
END:DAYLIGHT
BEGIN:STANDARD
TZOFFSETFROM:-0700
TZOFFSETTO:-0800
TZNAME:PST
DTSTART:20231105T090000
END:STANDARD
BEGIN:DAYLIGHT
TZOFFSETFROM:-0800
TZOFFSETTO:-0700
TZNAME:PDT
DTSTART:20240310T100000
END:DAYLIGHT
BEGIN:STANDARD
TZOFFSETFROM:-0700
TZOFFSETTO:-0800
TZNAME:PST
DTSTART:20241103T090000
END:STANDARD
BEGIN:DAYLIGHT
TZOFFSETFROM:-0800
TZOFFSETTO:-0700
TZNAME:PDT
DTSTART:20250309T100000
END:DAYLIGHT
BEGIN:STANDARD
TZOFFSETFROM:-0700
TZOFFSETTO:-0800
TZNAME:PST
DTSTART:20251102T090000
END:STANDARD
END:VTIMEZONE
BEGIN:VEVENT
DTSTART;TZID=America/Los_Angeles:20240801T180000
DTEND;TZID=America/Los_Angeles:20240801T210000
DTSTAMP:20260423T170342
CREATED:20240626T205137Z
LAST-MODIFIED:20240706T143145Z
UID:107522-1722535200-1722546000@tspoons.com
SUMMARY:Savoring Spain: CLASS FULL: PLEASE EMAIL TO BE WAITLISTED
DESCRIPTION:Our versions of Spain’s most famous dishes! \n\nTortilla de Patatas\nFresh Cucumber Melon Gazpacho\nBeef and Olive Stuffed Empanadas with Fresh Cilantro Sauce\nChicken and Chorizo Paella\nClassic Caramel Flan\n\n 
URL:https://tspoons.com/class/savoring-spain/
LOCATION:Tspoons\, 31770 Camino Capistrano\, Suite D\, San Juan Capistrano\, CA\, 92675\, United States
CATEGORIES:August 2024 Classes,Available
ORGANIZER;CN="Tspoons":MAILTO:tspoons@tspoons.com
GEO:33.5015236;-117.6625623
X-APPLE-STRUCTURED-LOCATION;VALUE=URI;X-ADDRESS=Tspoons 31770 Camino Capistrano Suite D San Juan Capistrano CA 92675 United States;X-APPLE-RADIUS=500;X-TITLE=31770 Camino Capistrano\, Suite D:geo:-117.6625623,33.5015236
END:VEVENT
BEGIN:VEVENT
DTSTART;TZID=America/Los_Angeles:20240802T180000
DTEND;TZID=America/Los_Angeles:20240802T210000
DTSTAMP:20260423T170342
CREATED:20240626T205234Z
LAST-MODIFIED:20240802T143140Z
UID:107525-1722621600-1722632400@tspoons.com
SUMMARY:Flavors of Provence: Mastering French Country Cooking: 2 SPOTS AVAILABLE!
DESCRIPTION:The classics of the French countryside \n\nPissaladière\nSoup au Pistou\nProvencal Braised Beef\nHerbes de Provence Roasted Potatoes\nTarte Tropezienne
URL:https://tspoons.com/class/provencal-cuisine/
LOCATION:Tspoons\, 31770 Camino Capistrano\, Suite D\, San Juan Capistrano\, CA\, 92675\, United States
CATEGORIES:August 2024 Classes,Available
ORGANIZER;CN="Tspoons":MAILTO:tspoons@tspoons.com
GEO:33.5015236;-117.6625623
X-APPLE-STRUCTURED-LOCATION;VALUE=URI;X-ADDRESS=Tspoons 31770 Camino Capistrano Suite D San Juan Capistrano CA 92675 United States;X-APPLE-RADIUS=500;X-TITLE=31770 Camino Capistrano\, Suite D:geo:-117.6625623,33.5015236
END:VEVENT
BEGIN:VEVENT
DTSTART;TZID=America/Los_Angeles:20240803T113000
DTEND;TZID=America/Los_Angeles:20240803T143000
DTSTAMP:20260423T170342
CREATED:20240626T205339Z
LAST-MODIFIED:20240802T185529Z
UID:107528-1722684600-1722695400@tspoons.com
SUMMARY:Summer Brunch!
DESCRIPTION:A fresh brunch celebrates the height of summer with vibrant\, seasonal ingredients and bright flavors. \n\nChallah French Toast with Macerated Berries and Fresh Whipped Cream\nBreakfast Chimichangas with Avocado Tomatillo Salsa\nClassic Latkes topped with Applesauce and Crème Fraiche\nOrange Honey Vanilla Yogurt\, Almond Granola and Banana Parfaits
URL:https://tspoons.com/class/summer-brunch/
LOCATION:Tspoons\, 31770 Camino Capistrano\, Suite D\, San Juan Capistrano\, CA\, 92675\, United States
CATEGORIES:August 2024 Classes,Available
ORGANIZER;CN="Tspoons":MAILTO:tspoons@tspoons.com
GEO:33.5015236;-117.6625623
X-APPLE-STRUCTURED-LOCATION;VALUE=URI;X-ADDRESS=Tspoons 31770 Camino Capistrano Suite D San Juan Capistrano CA 92675 United States;X-APPLE-RADIUS=500;X-TITLE=31770 Camino Capistrano\, Suite D:geo:-117.6625623,33.5015236
END:VEVENT
BEGIN:VEVENT
DTSTART;TZID=America/Los_Angeles:20240803T170000
DTEND;TZID=America/Los_Angeles:20240803T200000
DTSTAMP:20260423T170342
CREATED:20240626T205512Z
LAST-MODIFIED:20240803T000837Z
UID:107531-1722704400-1722715200@tspoons.com
SUMMARY:Taste of Greece: 2 SPOTS AVAILABLE!
DESCRIPTION:A simple but hearty summer Greek menu full of Mediterranean flavors. \n\nSpinach and Feta Spanakopita with Cucumber Tzatziki\nHomemade Roasted Garlic Hummus with Handmade Flatbread\nBeef Moussaka with fresh Tomato and Herb Pearl Couscous\nGreek Yogurt Cheesecake with Honeyed Figs and Toasted Pistachios\n\n(Vegetarian substitution available upon advance request.  Please note gluten free alterations are not available for this class.)
URL:https://tspoons.com/class/taste-of-greece/
LOCATION:Tspoons\, 31770 Camino Capistrano\, Suite D\, San Juan Capistrano\, CA\, 92675\, United States
CATEGORIES:August 2024 Classes,Available
ORGANIZER;CN="Tspoons":MAILTO:tspoons@tspoons.com
GEO:33.5015236;-117.6625623
X-APPLE-STRUCTURED-LOCATION;VALUE=URI;X-ADDRESS=Tspoons 31770 Camino Capistrano Suite D San Juan Capistrano CA 92675 United States;X-APPLE-RADIUS=500;X-TITLE=31770 Camino Capistrano\, Suite D:geo:-117.6625623,33.5015236
END:VEVENT
BEGIN:VEVENT
DTSTART;TZID=America/Los_Angeles:20240804T170000
DTEND;TZID=America/Los_Angeles:20240804T200000
DTSTAMP:20260423T170342
CREATED:20240626T205652Z
LAST-MODIFIED:20240724T213152Z
UID:107534-1722790800-1722801600@tspoons.com
SUMMARY:Viva Mexico: 2 SPOTS AVAILABLE!
DESCRIPTION:Recipes that showcase the traditional flavors of Mexican cooking. \n\nHearty Albondigas\nRoasted Vegetable and Bean Sopes\nChipotle Shrimp Tostadas with Mango Salsa\nTres Leches Cake with Fresh Strawberries\n\n 
URL:https://tspoons.com/class/viva-mexico/
LOCATION:Tspoons\, 31770 Camino Capistrano\, Suite D\, San Juan Capistrano\, CA\, 92675\, United States
CATEGORIES:August 2024 Classes,Available
ORGANIZER;CN="Tspoons":MAILTO:tspoons@tspoons.com
GEO:33.5015236;-117.6625623
X-APPLE-STRUCTURED-LOCATION;VALUE=URI;X-ADDRESS=Tspoons 31770 Camino Capistrano Suite D San Juan Capistrano CA 92675 United States;X-APPLE-RADIUS=500;X-TITLE=31770 Camino Capistrano\, Suite D:geo:-117.6625623,33.5015236
END:VEVENT
END:VCALENDAR