BEGIN:VCALENDAR
VERSION:2.0
PRODID:-//Tspoons Cooking Classes - ECPv6.15.20//NONSGML v1.0//EN
CALSCALE:GREGORIAN
METHOD:PUBLISH
X-WR-CALNAME:Tspoons Cooking Classes
X-ORIGINAL-URL:https://tspoons.com
X-WR-CALDESC:Events for Tspoons Cooking Classes
REFRESH-INTERVAL;VALUE=DURATION:PT1H
X-Robots-Tag:noindex
X-PUBLISHED-TTL:PT1H
BEGIN:VTIMEZONE
TZID:America/Los_Angeles
BEGIN:DAYLIGHT
TZOFFSETFROM:-0800
TZOFFSETTO:-0700
TZNAME:PDT
DTSTART:20240310T100000
END:DAYLIGHT
BEGIN:STANDARD
TZOFFSETFROM:-0700
TZOFFSETTO:-0800
TZNAME:PST
DTSTART:20241103T090000
END:STANDARD
BEGIN:DAYLIGHT
TZOFFSETFROM:-0800
TZOFFSETTO:-0700
TZNAME:PDT
DTSTART:20250309T100000
END:DAYLIGHT
BEGIN:STANDARD
TZOFFSETFROM:-0700
TZOFFSETTO:-0800
TZNAME:PST
DTSTART:20251102T090000
END:STANDARD
BEGIN:DAYLIGHT
TZOFFSETFROM:-0800
TZOFFSETTO:-0700
TZNAME:PDT
DTSTART:20260308T100000
END:DAYLIGHT
BEGIN:STANDARD
TZOFFSETFROM:-0700
TZOFFSETTO:-0800
TZNAME:PST
DTSTART:20261101T090000
END:STANDARD
END:VTIMEZONE
BEGIN:VEVENT
DTSTART;TZID=America/Los_Angeles:20250204T180000
DTEND;TZID=America/Los_Angeles:20250204T210000
DTSTAMP:20260423T092122
CREATED:20241220T181302Z
LAST-MODIFIED:20250102T202220Z
UID:111983-1738692000-1738702800@tspoons.com
SUMMARY:Farm to Table: CLASS FULL: PLEASE EMAIL TO BE WAITLISTED
DESCRIPTION:Late winter produce shines in these dishes. \n\nCreamy Farmers Market Greens and White Bean Soup\nFresh Baked Rosemary and Olive-Studded Focaccia\nApple\, Leek and Spinach Stuffed Salmon with Homey and Dijon Mustard Glaze\nCreamy Herbed Mashed Potatoes\nOrange and Honey Glazed Roasted Root Vegetables\nFresh Meyer Lemon Meringue Pie
URL:https://tspoons.com/class/farm-to-table-6/
LOCATION:Tspoons\, 31770 Camino Capistrano\, Suite D\, San Juan Capistrano\, CA\, 92675\, United States
CATEGORIES:Available,Feb 2025 Classes
ORGANIZER;CN="Tspoons":MAILTO:tspoons@tspoons.com
GEO:33.5015236;-117.6625623
X-APPLE-STRUCTURED-LOCATION;VALUE=URI;X-ADDRESS=Tspoons 31770 Camino Capistrano Suite D San Juan Capistrano CA 92675 United States;X-APPLE-RADIUS=500;X-TITLE=31770 Camino Capistrano\, Suite D:geo:-117.6625623,33.5015236
END:VEVENT
BEGIN:VEVENT
DTSTART;TZID=America/Los_Angeles:20250205T180000
DTEND;TZID=America/Los_Angeles:20250205T210000
DTSTAMP:20260423T092122
CREATED:20241220T181830Z
LAST-MODIFIED:20250117T212855Z
UID:111986-1738778400-1738789200@tspoons.com
SUMMARY:Cooking Around the World: CLASS FULL: PLEASE EMAIL TO BE WAITLISTED
DESCRIPTION:Let’s explore different cultures in the most delicious way possible! \n\nShrimp and Veggie Pad Thai\nSpanish Tortilla de Patatas\nMexican Roasted Vegetable and Chipotle Bean Sopes with Fresh Cabbage Slaw\nFrench Raspberry Eclairs
URL:https://tspoons.com/class/cooking-around-the-world-2/
LOCATION:Tspoons\, 31770 Camino Capistrano\, Suite D\, San Juan Capistrano\, CA\, 92675\, United States
CATEGORIES:Available,Feb 2025 Classes
ORGANIZER;CN="Tspoons":MAILTO:tspoons@tspoons.com
GEO:33.5015236;-117.6625623
X-APPLE-STRUCTURED-LOCATION;VALUE=URI;X-ADDRESS=Tspoons 31770 Camino Capistrano Suite D San Juan Capistrano CA 92675 United States;X-APPLE-RADIUS=500;X-TITLE=31770 Camino Capistrano\, Suite D:geo:-117.6625623,33.5015236
END:VEVENT
BEGIN:VEVENT
DTSTART;TZID=America/Los_Angeles:20250207T180000
DTEND;TZID=America/Los_Angeles:20250207T210000
DTSTAMP:20260423T092122
CREATED:20241220T182726Z
LAST-MODIFIED:20241221T204454Z
UID:111989-1738951200-1738962000@tspoons.com
SUMMARY:Cozy Up in the Kitchen: CLASS FULL: PLEASE EMAIL TO BE WAITLISTED
DESCRIPTION:Celebrate winter in the most delicious way! \n\nCreamy Butternut Squash Bisque with Crunchy Herbed Croutons\nCaramelized Pear and Gorgonzola Salad with Candied Walnuts in Balsamic Vinaigrette\nBraised Short Rib Ragu with Creamy Parmesan Polenta\nRoasted Seasonal Vegetables\nMolten Chocolate Lava Cake with Vanilla Ice Cream and Fresh Berries\n\n(Vegetarian substitution available upon advance request)
URL:https://tspoons.com/class/cozy-up-in-the-kitchen/
LOCATION:Tspoons\, 31770 Camino Capistrano\, Suite D\, San Juan Capistrano\, CA\, 92675\, United States
CATEGORIES:Available,Feb 2025 Classes
ORGANIZER;CN="Tspoons":MAILTO:tspoons@tspoons.com
GEO:33.5015236;-117.6625623
X-APPLE-STRUCTURED-LOCATION;VALUE=URI;X-ADDRESS=Tspoons 31770 Camino Capistrano Suite D San Juan Capistrano CA 92675 United States;X-APPLE-RADIUS=500;X-TITLE=31770 Camino Capistrano\, Suite D:geo:-117.6625623,33.5015236
END:VEVENT
BEGIN:VEVENT
DTSTART;TZID=America/Los_Angeles:20250208T170000
DTEND;TZID=America/Los_Angeles:20250208T200000
DTSTAMP:20260423T092122
CREATED:20241220T183135Z
LAST-MODIFIED:20241230T162709Z
UID:111992-1739034000-1739044800@tspoons.com
SUMMARY:A Taste of French Elegance: CLASS FULL: PLEASE EMAIL TO BE WAITLISTED
DESCRIPTION:Delicious French classics that will never go out of style. \n\nSoupe de Champignons\nNew Orleans Gulf Shrimp au jus\nCoq au Vin\nDauphine Potatoes\nCrepes Suzette
URL:https://tspoons.com/class/a-taste-of-french-elegance/
LOCATION:Tspoons\, 31770 Camino Capistrano\, Suite D\, San Juan Capistrano\, CA\, 92675\, United States
CATEGORIES:Available,Feb 2025 Classes
ORGANIZER;CN="Tspoons":MAILTO:tspoons@tspoons.com
GEO:33.5015236;-117.6625623
X-APPLE-STRUCTURED-LOCATION;VALUE=URI;X-ADDRESS=Tspoons 31770 Camino Capistrano Suite D San Juan Capistrano CA 92675 United States;X-APPLE-RADIUS=500;X-TITLE=31770 Camino Capistrano\, Suite D:geo:-117.6625623,33.5015236
END:VEVENT
BEGIN:VEVENT
DTSTART;TZID=America/Los_Angeles:20250209T100000
DTEND;TZID=America/Los_Angeles:20250209T113000
DTSTAMP:20260423T092122
CREATED:20241220T183406Z
LAST-MODIFIED:20241222T203324Z
UID:111995-1739095200-1739100600@tspoons.com
SUMMARY:Parent and Me: Italian Favorites (ages 5-10) 10am CLASS FULL: PLEASE EMAIL TO BE WAITLISTED
DESCRIPTION:Join Tspoons for some cooking fun!  Learn to make a delicious three-course meal you and your family will love!  These are our versions of Italian favorites\, made simple!  Each child must be accompanied by one adult. \n\nMini Margherita Pizza\nCrispy Chicken Parmesan with Buttered Noodles\nItalian Tiramisu Cups (kid friendly!)\n\n(Please note gluten free alterations are not available for this class.)
URL:https://tspoons.com/class/parent-and-me-italian-favorites-ages-5-10-10am-2/
LOCATION:Tspoons\, 31770 Camino Capistrano\, Suite D\, San Juan Capistrano\, CA\, 92675\, United States
CATEGORIES:Available,Feb 2025 Classes
ORGANIZER;CN="Tspoons":MAILTO:tspoons@tspoons.com
GEO:33.5015236;-117.6625623
X-APPLE-STRUCTURED-LOCATION;VALUE=URI;X-ADDRESS=Tspoons 31770 Camino Capistrano Suite D San Juan Capistrano CA 92675 United States;X-APPLE-RADIUS=500;X-TITLE=31770 Camino Capistrano\, Suite D:geo:-117.6625623,33.5015236
END:VEVENT
BEGIN:VEVENT
DTSTART;TZID=America/Los_Angeles:20250209T130000
DTEND;TZID=America/Los_Angeles:20250209T143000
DTSTAMP:20260423T092122
CREATED:20241220T184054Z
LAST-MODIFIED:20250106T050105Z
UID:111998-1739106000-1739111400@tspoons.com
SUMMARY:Parent and Me: Italian Favorites (Ages 5-10) 1pm CLASS FULL: PLEASE EMAIL TO BE WAITLISTED
DESCRIPTION:Join Tspoons for some cooking fun!  Learn to make a delicious three-course meal you and your family will love!  These are our versions of Italian favorites\, made simple!  Each child must be accompanied by one adult. \n\nMini Margherita Pizza\nCrispy Chicken Parmesan with Buttered Noodles\nItalian Tiramisu Cups (kid friendly!)\n\n(Please note gluten free alterations are not available for this class.)
URL:https://tspoons.com/class/parent-and-me-italian-favorites-ages-5-10-1pm-4/
LOCATION:Tspoons\, 31770 Camino Capistrano\, Suite D\, San Juan Capistrano\, CA\, 92675\, United States
CATEGORIES:Available,Feb 2025 Classes
ORGANIZER;CN="Tspoons":MAILTO:tspoons@tspoons.com
GEO:33.5015236;-117.6625623
X-APPLE-STRUCTURED-LOCATION;VALUE=URI;X-ADDRESS=Tspoons 31770 Camino Capistrano Suite D San Juan Capistrano CA 92675 United States;X-APPLE-RADIUS=500;X-TITLE=31770 Camino Capistrano\, Suite D:geo:-117.6625623,33.5015236
END:VEVENT
BEGIN:VEVENT
DTSTART;TZID=America/Los_Angeles:20250209T160000
DTEND;TZID=America/Los_Angeles:20250209T173000
DTSTAMP:20260423T092122
CREATED:20241220T184745Z
LAST-MODIFIED:20250206T005456Z
UID:112002-1739116800-1739122200@tspoons.com
SUMMARY:Parent and Me: Italian Favorites (Ages 11-15) 4pm 2 SPOTS for 2 PAIRS available!
DESCRIPTION:Join Tspoons for some cooking fun!  Learn to make a delicious three-course meal you and your family will love!  These are our versions of Italian favorites\, made simple!  Each child must be accompanied by one adult. \n\nMini Margherita Pizza\nCrispy Chicken Parmesan with Buttered Noodles\nItalian Tiramisu Cups (kid friendly!)\n\n(Please note gluten free alterations are not available for this class.)
URL:https://tspoons.com/class/parent-and-me-italian-favorites-ages-11-15-4pm-4/
LOCATION:Tspoons\, 31770 Camino Capistrano\, Suite D\, San Juan Capistrano\, CA\, 92675\, United States
CATEGORIES:Available,Feb 2025 Classes
ORGANIZER;CN="Tspoons":MAILTO:tspoons@tspoons.com
GEO:33.5015236;-117.6625623
X-APPLE-STRUCTURED-LOCATION;VALUE=URI;X-ADDRESS=Tspoons 31770 Camino Capistrano Suite D San Juan Capistrano CA 92675 United States;X-APPLE-RADIUS=500;X-TITLE=31770 Camino Capistrano\, Suite D:geo:-117.6625623,33.5015236
END:VEVENT
END:VCALENDAR