BEGIN:VCALENDAR
VERSION:2.0
PRODID:-//Tspoons Cooking Classes - ECPv6.15.20//NONSGML v1.0//EN
CALSCALE:GREGORIAN
METHOD:PUBLISH
X-ORIGINAL-URL:https://tspoons.com
X-WR-CALDESC:Events for Tspoons Cooking Classes
REFRESH-INTERVAL;VALUE=DURATION:PT1H
X-Robots-Tag:noindex
X-PUBLISHED-TTL:PT1H
BEGIN:VTIMEZONE
TZID:America/Los_Angeles
BEGIN:DAYLIGHT
TZOFFSETFROM:-0800
TZOFFSETTO:-0700
TZNAME:PDT
DTSTART:20240310T100000
END:DAYLIGHT
BEGIN:STANDARD
TZOFFSETFROM:-0700
TZOFFSETTO:-0800
TZNAME:PST
DTSTART:20241103T090000
END:STANDARD
BEGIN:DAYLIGHT
TZOFFSETFROM:-0800
TZOFFSETTO:-0700
TZNAME:PDT
DTSTART:20250309T100000
END:DAYLIGHT
BEGIN:STANDARD
TZOFFSETFROM:-0700
TZOFFSETTO:-0800
TZNAME:PST
DTSTART:20251102T090000
END:STANDARD
BEGIN:DAYLIGHT
TZOFFSETFROM:-0800
TZOFFSETTO:-0700
TZNAME:PDT
DTSTART:20260308T100000
END:DAYLIGHT
BEGIN:STANDARD
TZOFFSETFROM:-0700
TZOFFSETTO:-0800
TZNAME:PST
DTSTART:20261101T090000
END:STANDARD
END:VTIMEZONE
BEGIN:VEVENT
DTSTART;TZID=America/Los_Angeles:20250224T180000
DTEND;TZID=America/Los_Angeles:20250224T210000
DTSTAMP:20260423T062610
CREATED:20241220T192216Z
LAST-MODIFIED:20250201T213345Z
UID:112027-1740420000-1740430800@tspoons.com
SUMMARY:Fundamentals I: Chef Basics 5-Week Series CLASS FULL: PLEASE EMAIL TO BE WAITLISTED
DESCRIPTION:If you want to learn classic techniques and cooking basics to improve your kitchen skills\, this is the course for you.  Each week’s lessons and recipes will build upon the previous weeks’ content\, so you’re able to demonstrate a progression of your skills. \nPlease note this class is limited to 12 students only to ensure our chefs are able to give their full and careful attention to the participants. \n\nFundamentals: Week 1: KITCHEN ESSENTIALS\, STAPLES\, STOCKS\nFundamentals: Week 2: VEGETABLES\, SAUCES\, THICKENERS\nFundamentals: Week 3: GRAINS\, PASTAS\, SIDES\nFundamentals: Week 4: MEATS AND POULTRY\nFundamentals: Week 5: FISH AND SHELLFISH\n\n 
URL:https://tspoons.com/class/fundamentals-i-chef-basics-5-week-series/2025-02-24/
LOCATION:Tspoons\, 31770 Camino Capistrano\, Suite D\, San Juan Capistrano\, CA\, 92675\, United States
CATEGORIES:Available,Feb 2025 Classes
ORGANIZER;CN="Tspoons":MAILTO:tspoons@tspoons.com
GEO:33.5015236;-117.6625623
X-APPLE-STRUCTURED-LOCATION;VALUE=URI;X-ADDRESS=Tspoons 31770 Camino Capistrano Suite D San Juan Capistrano CA 92675 United States;X-APPLE-RADIUS=500;X-TITLE=31770 Camino Capistrano\, Suite D:geo:-117.6625623,33.5015236
END:VEVENT
BEGIN:VEVENT
DTSTART;TZID=America/Los_Angeles:20250226T180000
DTEND;TZID=America/Los_Angeles:20250226T210000
DTSTAMP:20260423T062610
CREATED:20241220T194950Z
LAST-MODIFIED:20250111T011617Z
UID:112061-1740592800-1740603600@tspoons.com
SUMMARY:Flavors of the Mediterranean: CLASS FULL: PLEASE EMAIL TO BE WAITLISTED
DESCRIPTION:Create classic dishes that capture the essence of this culinary heritage. \n\nSpinach and Feta Spanakopita with Cucumber Tzatziki\nSpiced Vegetable Kebabs\nMoroccan Chicken Stew with Jeweled Couscous\nAlmond Orange Blossom Cake with Honey Orange Whipped Cream
URL:https://tspoons.com/class/flavors-of-the-mediterranean-4/
LOCATION:Tspoons\, 31770 Camino Capistrano\, Suite D\, San Juan Capistrano\, CA\, 92675\, United States
CATEGORIES:Available,Feb 2025 Classes
ORGANIZER;CN="Tspoons":MAILTO:tspoons@tspoons.com
GEO:33.5015236;-117.6625623
X-APPLE-STRUCTURED-LOCATION;VALUE=URI;X-ADDRESS=Tspoons 31770 Camino Capistrano Suite D San Juan Capistrano CA 92675 United States;X-APPLE-RADIUS=500;X-TITLE=31770 Camino Capistrano\, Suite D:geo:-117.6625623,33.5015236
END:VEVENT
BEGIN:VEVENT
DTSTART;TZID=America/Los_Angeles:20250228T180000
DTEND;TZID=America/Los_Angeles:20250228T210000
DTSTAMP:20260423T062610
CREATED:20241220T195154Z
LAST-MODIFIED:20250228T174417Z
UID:112064-1740765600-1740776400@tspoons.com
SUMMARY:Hearty Steakhouse: CLASS FULL: PLEASE EMAIL TO BE WAITLISTED
DESCRIPTION:Everyone wins when there’s a menu this rich! \n\nSausage and Bacon Stuffed Mushrooms\nCreamy Artichoke and Kale Dip with Fresh Baked Baguette\nCoffee Rubbed New York Steak with Red Wine Shallot Reduction\nCreamy Parmesan Polenta with Roasted Garlic and Balsamic Brussel Sprouts\nDark Chocolate Espresso Tart with Salted Caramel Drizzle
URL:https://tspoons.com/class/hearty-steakhouse-9/
LOCATION:Tspoons\, 31770 Camino Capistrano\, Suite D\, San Juan Capistrano\, CA\, 92675\, United States
CATEGORIES:Available,Feb 2025 Classes
ORGANIZER;CN="Tspoons":MAILTO:tspoons@tspoons.com
GEO:33.5015236;-117.6625623
X-APPLE-STRUCTURED-LOCATION;VALUE=URI;X-ADDRESS=Tspoons 31770 Camino Capistrano Suite D San Juan Capistrano CA 92675 United States;X-APPLE-RADIUS=500;X-TITLE=31770 Camino Capistrano\, Suite D:geo:-117.6625623,33.5015236
END:VEVENT
END:VCALENDAR