BEGIN:VCALENDAR
VERSION:2.0
PRODID:-//Tspoons Cooking Classes - ECPv6.15.20//NONSGML v1.0//EN
CALSCALE:GREGORIAN
METHOD:PUBLISH
X-WR-CALNAME:Tspoons Cooking Classes
X-ORIGINAL-URL:https://tspoons.com
X-WR-CALDESC:Events for Tspoons Cooking Classes
REFRESH-INTERVAL;VALUE=DURATION:PT1H
X-Robots-Tag:noindex
X-PUBLISHED-TTL:PT1H
BEGIN:VTIMEZONE
TZID:America/Los_Angeles
BEGIN:DAYLIGHT
TZOFFSETFROM:-0800
TZOFFSETTO:-0700
TZNAME:PDT
DTSTART:20230312T100000
END:DAYLIGHT
BEGIN:STANDARD
TZOFFSETFROM:-0700
TZOFFSETTO:-0800
TZNAME:PST
DTSTART:20231105T090000
END:STANDARD
BEGIN:DAYLIGHT
TZOFFSETFROM:-0800
TZOFFSETTO:-0700
TZNAME:PDT
DTSTART:20240310T100000
END:DAYLIGHT
BEGIN:STANDARD
TZOFFSETFROM:-0700
TZOFFSETTO:-0800
TZNAME:PST
DTSTART:20241103T090000
END:STANDARD
BEGIN:DAYLIGHT
TZOFFSETFROM:-0800
TZOFFSETTO:-0700
TZNAME:PDT
DTSTART:20250309T100000
END:DAYLIGHT
BEGIN:STANDARD
TZOFFSETFROM:-0700
TZOFFSETTO:-0800
TZNAME:PST
DTSTART:20251102T090000
END:STANDARD
END:VTIMEZONE
BEGIN:VEVENT
DTSTART;TZID=America/Los_Angeles:20240330T170000
DTEND;TZID=America/Los_Angeles:20240330T200000
DTSTAMP:20260424T022338
CREATED:20240131T223300Z
LAST-MODIFIED:20240201T023025Z
UID:104561-1711818000-1711828800@tspoons.com
SUMMARY:Date Night : Simply French - COUPLES ONLY - CLASS FULL: PLEASE EMAIL TO BE WAITLISTED
DESCRIPTION:French food is at its best when it’s simple\, yet delicious. \n\nLentil and Sausage Stew\nCroque Madame with Balsamic Dijon Dressed Greens\nCreamy Chicken Fricassee\nRoasted Asparagus\nRed Pepper Rice Pilaf\nCrepes Suzette
URL:https://tspoons.com/class/date-night-simply-french-couples-only-2/
LOCATION:Tspoons\, 31770 Camino Capistrano\, Suite D\, San Juan Capistrano\, CA\, 92675\, United States
CATEGORIES:Available,March 2024 Classes
ORGANIZER;CN="Tspoons":MAILTO:tspoons@tspoons.com
GEO:33.5015236;-117.6625623
X-APPLE-STRUCTURED-LOCATION;VALUE=URI;X-ADDRESS=Tspoons 31770 Camino Capistrano Suite D San Juan Capistrano CA 92675 United States;X-APPLE-RADIUS=500;X-TITLE=31770 Camino Capistrano\, Suite D:geo:-117.6625623,33.5015236
END:VEVENT
BEGIN:VEVENT
DTSTART;TZID=America/Los_Angeles:20240329T180000
DTEND;TZID=America/Los_Angeles:20240329T210000
DTSTAMP:20260424T022338
CREATED:20240131T223224Z
LAST-MODIFIED:20240329T195533Z
UID:104558-1711735200-1711746000@tspoons.com
SUMMARY:Handmade Pastas and Sauces - CLASS FULL: PLEASE EMAIL TO BE WAITLISTED
DESCRIPTION:The deliciousness of freshly made pasta is so worth the time it takes to make! \n\nHand Rolled Gnocchi with Pomodoro Sauce\nBlack Pepper Pasta Carbonara\nShrimp and Pea Ravioli with Creamy Lemon Caper Sauce\n\n(Please note gluten free alterations are not available for this class)
URL:https://tspoons.com/class/handmade-pastas-and-sauces-5/
LOCATION:Tspoons\, 31770 Camino Capistrano\, Suite D\, San Juan Capistrano\, CA\, 92675\, United States
CATEGORIES:Available,March 2024 Classes
ORGANIZER;CN="Tspoons":MAILTO:tspoons@tspoons.com
GEO:33.5015236;-117.6625623
X-APPLE-STRUCTURED-LOCATION;VALUE=URI;X-ADDRESS=Tspoons 31770 Camino Capistrano Suite D San Juan Capistrano CA 92675 United States;X-APPLE-RADIUS=500;X-TITLE=31770 Camino Capistrano\, Suite D:geo:-117.6625623,33.5015236
END:VEVENT
BEGIN:VEVENT
DTSTART;TZID=America/Los_Angeles:20240328T180000
DTEND;TZID=America/Los_Angeles:20240328T210000
DTSTAMP:20260424T022338
CREATED:20240131T223152Z
LAST-MODIFIED:20240327T234135Z
UID:104555-1711648800-1711659600@tspoons.com
SUMMARY:Spice Lovers
DESCRIPTION:We’re doing spicy our way.  If you can’t take the heat…. \n\nThai-Style Stir Fry Beef with Basil and Chilies\nNashville Hot Chicken\nRoasted Veggie and Black Bean Chimichangas with Habanero Tomatillo Salsa\nCooling fruit sorbet to finish!
URL:https://tspoons.com/class/spice-lovers-2/
LOCATION:Tspoons\, 31770 Camino Capistrano\, Suite D\, San Juan Capistrano\, CA\, 92675\, United States
CATEGORIES:Available,March 2024 Classes
ORGANIZER;CN="Tspoons":MAILTO:tspoons@tspoons.com
GEO:33.5015236;-117.6625623
X-APPLE-STRUCTURED-LOCATION;VALUE=URI;X-ADDRESS=Tspoons 31770 Camino Capistrano Suite D San Juan Capistrano CA 92675 United States;X-APPLE-RADIUS=500;X-TITLE=31770 Camino Capistrano\, Suite D:geo:-117.6625623,33.5015236
END:VEVENT
BEGIN:VEVENT
DTSTART;TZID=America/Los_Angeles:20240327T180000
DTEND;TZID=America/Los_Angeles:20240327T210000
DTSTAMP:20260424T022338
CREATED:20240131T223133Z
LAST-MODIFIED:20240304T195429Z
UID:104552-1711562400-1711573200@tspoons.com
SUMMARY:Cajun Classics - CLASS FULL: PLEASE EMAIL TO BE WAITLISTED
DESCRIPTION:A little taste of New Orleans\, right here in the West! \n\nHearty Chicken Jambalaya with Saffron Infused Rice\nCrispy Open-Faced Shrimp Po Boy with Toasted French Baguette topped with Remoulade Slaw\nFresh Baked Corn Bread with Andouille Sausage and Okra Gumbo\nSugar Dusted Beignets with Creamy Custard Sauce\n\n(Please note gluten free alterations are not available for this class.)
URL:https://tspoons.com/class/cajun-classics/
LOCATION:Tspoons\, 31770 Camino Capistrano\, Suite D\, San Juan Capistrano\, CA\, 92675\, United States
CATEGORIES:Available,March 2024 Classes
ORGANIZER;CN="Tspoons":MAILTO:tspoons@tspoons.com
GEO:33.5015236;-117.6625623
X-APPLE-STRUCTURED-LOCATION;VALUE=URI;X-ADDRESS=Tspoons 31770 Camino Capistrano Suite D San Juan Capistrano CA 92675 United States;X-APPLE-RADIUS=500;X-TITLE=31770 Camino Capistrano\, Suite D:geo:-117.6625623,33.5015236
END:VEVENT
BEGIN:VEVENT
DTSTART;TZID=America/Los_Angeles:20240321T180000
DTEND;TZID=America/Los_Angeles:20240321T210000
DTSTAMP:20260424T022338
CREATED:20240131T222725Z
LAST-MODIFIED:20240201T025143Z
UID:104547-1711044000-1711054800@tspoons.com
SUMMARY:Springtime Flavors - CLASS FULL: PLEASE EMAIL TO BE WAITLISTED
DESCRIPTION:Take full advantage of the new season with these delicious recipes. \n\nSpring Vegetable Cobb Salad with Green Goddess Dressing\nCreamy Split Pea Soup\nPan Seared Cod with Dill Sauce\nRoasted Garlic Potato Puree\nOld Fashioned Pineapple Upside Down Mini Cakes
URL:https://tspoons.com/class/springtime-flavors-2/
LOCATION:Tspoons\, 31770 Camino Capistrano\, Suite D\, San Juan Capistrano\, CA\, 92675\, United States
CATEGORIES:Available,March 2024 Classes
ORGANIZER;CN="Tspoons":MAILTO:tspoons@tspoons.com
GEO:33.5015236;-117.6625623
X-APPLE-STRUCTURED-LOCATION;VALUE=URI;X-ADDRESS=Tspoons 31770 Camino Capistrano Suite D San Juan Capistrano CA 92675 United States;X-APPLE-RADIUS=500;X-TITLE=31770 Camino Capistrano\, Suite D:geo:-117.6625623,33.5015236
END:VEVENT
BEGIN:VEVENT
DTSTART;TZID=America/Los_Angeles:20240320T180000
DTEND;TZID=America/Los_Angeles:20240320T210000
DTSTAMP:20260424T022338
CREATED:20240131T222632Z
LAST-MODIFIED:20240320T232741Z
UID:104544-1710957600-1710968400@tspoons.com
SUMMARY:Date Night: Flavors of Latin America - CLASS FULL
DESCRIPTION:Take a trip through the exciting and sharp flavors of Latin countries! \n\nMexican Roasted Vegetable and Bean Sopes topped with Fresh Cabbage Slaw\nArgentinian Beef and Olive Empanadas with Tangy Chimichurri\nPeruvian Lomo Saltado with Steamed Rice\nCuban Guava Pastelitos with Fresh Whipped Cream\n\n(Please note gluten free alterations are not available for this class.)
URL:https://tspoons.com/class/date-night-flavors-of-latin-america-couples-only/
LOCATION:Tspoons\, 31770 Camino Capistrano\, Suite D\, San Juan Capistrano\, CA\, 92675\, United States
CATEGORIES:Available,March 2024 Classes
ORGANIZER;CN="Tspoons":MAILTO:tspoons@tspoons.com
GEO:33.5015236;-117.6625623
X-APPLE-STRUCTURED-LOCATION;VALUE=URI;X-ADDRESS=Tspoons 31770 Camino Capistrano Suite D San Juan Capistrano CA 92675 United States;X-APPLE-RADIUS=500;X-TITLE=31770 Camino Capistrano\, Suite D:geo:-117.6625623,33.5015236
END:VEVENT
BEGIN:VEVENT
DTSTART;TZID=America/Los_Angeles:20240317T160000
DTEND;TZID=America/Los_Angeles:20240317T173000
DTSTAMP:20260424T022338
CREATED:20240131T222556Z
LAST-MODIFIED:20240201T024838Z
UID:104541-1710691200-1710696600@tspoons.com
SUMMARY:Parent and Me - St. Paddy's Day (ages 11-15) 4pm - CLASS FULL: PLEASE EMAIL TO BE WAITLISTED
DESCRIPTION:Join Tspoons for some fun making traditional Irish recipes to celebrate the day!  Each child must be accompanied by one adult. \n\nMini Irish Soda Bread Loaves with Chive Butter\nIndividual Shepherd’s Pies with Cheesy Potato Topping\nIrish Apple Cake with Vanilla Custard\n\n(Please note gluten free alterations are not available for this class.)
URL:https://tspoons.com/class/parent-and-me-st-paddys-day-ages-11-15-4pm/
LOCATION:Tspoons\, 31770 Camino Capistrano\, Suite D\, San Juan Capistrano\, CA\, 92675\, United States
CATEGORIES:Available,March 2024 Classes
ORGANIZER;CN="Tspoons":MAILTO:tspoons@tspoons.com
GEO:33.5015236;-117.6625623
X-APPLE-STRUCTURED-LOCATION;VALUE=URI;X-ADDRESS=Tspoons 31770 Camino Capistrano Suite D San Juan Capistrano CA 92675 United States;X-APPLE-RADIUS=500;X-TITLE=31770 Camino Capistrano\, Suite D:geo:-117.6625623,33.5015236
END:VEVENT
BEGIN:VEVENT
DTSTART;TZID=America/Los_Angeles:20240317T130000
DTEND;TZID=America/Los_Angeles:20240317T143000
DTSTAMP:20260424T022338
CREATED:20240131T222514Z
LAST-MODIFIED:20240201T024928Z
UID:104538-1710680400-1710685800@tspoons.com
SUMMARY:Parent and Me - St. Paddy's Day (ages 5-10) 1pm - CLASS FULL: PLEASE EMAIL TO BE WAITLISTED
DESCRIPTION:Join Tspoons for some fun making traditional Irish recipes to celebrate the day!  Each child must be accompanied by one adult. \n\nMini Irish Soda Bread Loaves with Chive Butter\nIndividual Shepherd’s Pies with Cheesy Potato Topping\nIrish Apple Cake with Vanilla Custard\n\n(Please note gluten free alterations are not available for this class.)
URL:https://tspoons.com/class/parent-and-me-st-paddys-day-ages-5-10-1pm/
LOCATION:Tspoons\, 31770 Camino Capistrano\, Suite D\, San Juan Capistrano\, CA\, 92675\, United States
CATEGORIES:Available,March 2024 Classes
ORGANIZER;CN="Tspoons":MAILTO:tspoons@tspoons.com
GEO:33.5015236;-117.6625623
X-APPLE-STRUCTURED-LOCATION;VALUE=URI;X-ADDRESS=Tspoons 31770 Camino Capistrano Suite D San Juan Capistrano CA 92675 United States;X-APPLE-RADIUS=500;X-TITLE=31770 Camino Capistrano\, Suite D:geo:-117.6625623,33.5015236
END:VEVENT
BEGIN:VEVENT
DTSTART;TZID=America/Los_Angeles:20240317T100000
DTEND;TZID=America/Los_Angeles:20240317T233000
DTSTAMP:20260424T022338
CREATED:20240131T222449Z
LAST-MODIFIED:20240201T025007Z
UID:104535-1710669600-1710718200@tspoons.com
SUMMARY:Parent and Me - St Paddy's Day (ages 5-10) 10am - CLASS FULL: PLEASE EMAIL TO BE WAITLISTED
DESCRIPTION:Join Tspoons for some fun making traditional Irish recipes to celebrate the day!  Each child must be accompanied by one adult. \n\nMini Irish Soda Bread Loaves with Chive Butter\nIndividual Shepherd’s Pies with Cheesy Potato Topping\nIrish Apple Cake with Vanilla Custard\n\n(Please note gluten free alterations are not available for this class.)
URL:https://tspoons.com/class/parent-and-me-st-paddys-day-ages-5-10-10am/
LOCATION:Tspoons\, 31770 Camino Capistrano\, Suite D\, San Juan Capistrano\, CA\, 92675\, United States
CATEGORIES:Available,March 2024 Classes
ORGANIZER;CN="Tspoons":MAILTO:tspoons@tspoons.com
GEO:33.5015236;-117.6625623
X-APPLE-STRUCTURED-LOCATION;VALUE=URI;X-ADDRESS=Tspoons 31770 Camino Capistrano Suite D San Juan Capistrano CA 92675 United States;X-APPLE-RADIUS=500;X-TITLE=31770 Camino Capistrano\, Suite D:geo:-117.6625623,33.5015236
END:VEVENT
BEGIN:VEVENT
DTSTART;TZID=America/Los_Angeles:20240316T170000
DTEND;TZID=America/Los_Angeles:20240316T200000
DTSTAMP:20260424T022338
CREATED:20240131T222313Z
LAST-MODIFIED:20240316T224155Z
UID:104532-1710608400-1710619200@tspoons.com
SUMMARY:Cook\, Wine and Dine - CLASS FULL: PLEASE EMAIL TO BE WAITLISTED
DESCRIPTION:Cook up some amazing dishes\, made even better with the addition of a wine pairing!  We’ve teamed up with EB Winery and their owner / wine maker Ed Szubielski\, who produce a fabulous array of boutique wines\, to bring you a wonderful experience! We’ve selected 4 wines to pair with the dishes you’ll be cooking. Ed will talk to you about the wines we have selected for this event\, and why they were chosen to pair with the dishes you have created. \n\nSpring Pea Soup with Crispy Fried Shallots and Prosciutto\nSpinach and Artichoke Dip with Toasted Baguette Slices\nCoffee and Spice Rubbed New York Steak with Port Wine Sauce\nRoasted Garlic Potato Puree\nHoney Orange Glazed Carrots and Parsnips\nChocolate Budino with Fresh Berries and Vanilla Whip
URL:https://tspoons.com/class/cook-wine-and-dine-16/
LOCATION:Tspoons\, 31770 Camino Capistrano\, Suite D\, San Juan Capistrano\, CA\, 92675\, United States
CATEGORIES:Available,March 2024 Classes
ORGANIZER;CN="Tspoons":MAILTO:tspoons@tspoons.com
GEO:33.5015236;-117.6625623
X-APPLE-STRUCTURED-LOCATION;VALUE=URI;X-ADDRESS=Tspoons 31770 Camino Capistrano Suite D San Juan Capistrano CA 92675 United States;X-APPLE-RADIUS=500;X-TITLE=31770 Camino Capistrano\, Suite D:geo:-117.6625623,33.5015236
END:VEVENT
BEGIN:VEVENT
DTSTART;TZID=America/Los_Angeles:20240315T180000
DTEND;TZID=America/Los_Angeles:20240315T210000
DTSTAMP:20260424T022338
CREATED:20240131T222235Z
LAST-MODIFIED:20240201T022942Z
UID:104529-1710525600-1710536400@tspoons.com
SUMMARY:Date Night : Sicily - COUPLES ONLY - CLASS FULL: PLEASE EMAIL TO BE WAITLISTED
DESCRIPTION:The traditional ingredients of Sicilian cooking will be showcased in this impressive menu! \n\nCrispy and Creamy Arancini with Homemade Marinara\nFresh Sicilian Citrus and Arugula Salad topped with a Light Vinaigrette and Shaved Parmesan\nClassic Pasta alla Norma\nLemon Ricotta Cheese Tart\n\n(Please note gluten free alterations are not available for this class.)
URL:https://tspoons.com/class/date-night-sicily-couples-only-2/
LOCATION:Tspoons\, 31770 Camino Capistrano\, Suite D\, San Juan Capistrano\, CA\, 92675\, United States
CATEGORIES:Available,March 2024 Classes
ORGANIZER;CN="Tspoons":MAILTO:tspoons@tspoons.com
GEO:33.5015236;-117.6625623
X-APPLE-STRUCTURED-LOCATION;VALUE=URI;X-ADDRESS=Tspoons 31770 Camino Capistrano Suite D San Juan Capistrano CA 92675 United States;X-APPLE-RADIUS=500;X-TITLE=31770 Camino Capistrano\, Suite D:geo:-117.6625623,33.5015236
END:VEVENT
BEGIN:VEVENT
DTSTART;TZID=America/Los_Angeles:20240314T180000
DTEND;TZID=America/Los_Angeles:20240314T210000
DTSTAMP:20260424T022338
CREATED:20240131T004520Z
LAST-MODIFIED:20240309T020522Z
UID:104515-1710439200-1710450000@tspoons.com
SUMMARY:Fresh Mediterranean - CLASS FULL: PLEASE EMAIL TO BE WAITLISTED
DESCRIPTION:Nothing beats the freshness of Mediterranean dishes! \n\nWatermelon\, Feta and Arugula Salad\nClassic Lamb Dolmas with Tzatziki\nMoroccan-Style Chicken with Couscous\nApple Baklava
URL:https://tspoons.com/class/fresh-mediterranean-2/
LOCATION:Tspoons\, 31770 Camino Capistrano\, Suite D\, San Juan Capistrano\, CA\, 92675\, United States
CATEGORIES:Available,March 2024 Classes
ORGANIZER;CN="Tspoons":MAILTO:tspoons@tspoons.com
GEO:33.5015236;-117.6625623
X-APPLE-STRUCTURED-LOCATION;VALUE=URI;X-ADDRESS=Tspoons 31770 Camino Capistrano Suite D San Juan Capistrano CA 92675 United States;X-APPLE-RADIUS=500;X-TITLE=31770 Camino Capistrano\, Suite D:geo:-117.6625623,33.5015236
END:VEVENT
BEGIN:VEVENT
DTSTART;TZID=America/Los_Angeles:20240313T180000
DTEND;TZID=America/Los_Angeles:20240313T210000
DTSTAMP:20260424T022338
CREATED:20240131T222146Z
LAST-MODIFIED:20240308T223033Z
UID:104512-1710352800-1710363600@tspoons.com
SUMMARY:New York Deli Dishes- CLASS FULL: PLEASE EMAIL TO BE WAITLISTED
DESCRIPTION:We’ll get as close as we can to the New York originals! \n\nFresh Baked Bagels with Lox and Schmear\nCrispy Fried Latkes with Applesauce and Sour Cream\nWarming Matzo Ball Soup\nChocolate Dipped Coconut Macaroons\n\n(Please note that gluten free alterations are not available for this class.)
URL:https://tspoons.com/class/new-york-deli-dishes-4/
LOCATION:Tspoons\, 31770 Camino Capistrano\, Suite D\, San Juan Capistrano\, CA\, 92675\, United States
CATEGORIES:Available,March 2024 Classes
ORGANIZER;CN="Tspoons":MAILTO:tspoons@tspoons.com
GEO:33.5015236;-117.6625623
X-APPLE-STRUCTURED-LOCATION;VALUE=URI;X-ADDRESS=Tspoons 31770 Camino Capistrano Suite D San Juan Capistrano CA 92675 United States;X-APPLE-RADIUS=500;X-TITLE=31770 Camino Capistrano\, Suite D:geo:-117.6625623,33.5015236
END:VEVENT
BEGIN:VEVENT
DTSTART;TZID=America/Los_Angeles:20240310T110000
DTEND;TZID=America/Los_Angeles:20240310T140000
DTSTAMP:20260424T022338
CREATED:20240131T221858Z
LAST-MODIFIED:20240308T214018Z
UID:104508-1710068400-1710079200@tspoons.com
SUMMARY:Spring Brunch - CLASS FULL:  PLEASE EMAIL TO BE WAITLISTED
DESCRIPTION:Transitioning from winter into spring with this lovely brunch menu. \n\nAlmond and Blueberry Doughnuts with Sweet Glaze\nCrispy Rosti topped with Sunny Side Up Eggs and Fresh Lemon Dressed Arugula\nVanilla Breakfast Panna Cotta with Raspberry Jam and Fresh Baked Granola\nSavory Sausage Bread Pudding\n\n(Please note gluten free alterations are not available for this class.)
URL:https://tspoons.com/class/spring-brunch-3/
LOCATION:Tspoons\, 31770 Camino Capistrano\, Suite D\, San Juan Capistrano\, CA\, 92675\, United States
CATEGORIES:Available,March 2024 Classes
ORGANIZER;CN="Tspoons":MAILTO:tspoons@tspoons.com
GEO:33.5015236;-117.6625623
X-APPLE-STRUCTURED-LOCATION;VALUE=URI;X-ADDRESS=Tspoons 31770 Camino Capistrano Suite D San Juan Capistrano CA 92675 United States;X-APPLE-RADIUS=500;X-TITLE=31770 Camino Capistrano\, Suite D:geo:-117.6625623,33.5015236
END:VEVENT
BEGIN:VEVENT
DTSTART;TZID=America/Los_Angeles:20240301T180000
DTEND;TZID=America/Los_Angeles:20240301T210000
DTSTAMP:20260424T022338
CREATED:20231227T230009Z
LAST-MODIFIED:20240102T183358Z
UID:103974-1709316000-1709326800@tspoons.com
SUMMARY:Hearty Steakhouse - CLASS FULL: PLEASE EMAIL TO BE WAITLISTED
DESCRIPTION:Everyone wins when there’s a menu this rich! \n\nSausage and Bacon Stuffed Mushrooms\nCreamy Artichoke and Kale Dip with Fresh Baked Baguette\nPepper Crusted Sirloin with Bernaise Sauce\nRoasted Baby Potatoes and Sauteed Haricots Verts\nChocolate Almond Cake
URL:https://tspoons.com/class/hearty-steakhouse-7/
LOCATION:Tspoons\, 31770 Camino Capistrano\, Suite D\, San Juan Capistrano\, CA\, 92675\, United States
CATEGORIES:Available,March 2024 Classes
ORGANIZER;CN="Tspoons":MAILTO:tspoons@tspoons.com
GEO:33.5015236;-117.6625623
X-APPLE-STRUCTURED-LOCATION;VALUE=URI;X-ADDRESS=Tspoons 31770 Camino Capistrano Suite D San Juan Capistrano CA 92675 United States;X-APPLE-RADIUS=500;X-TITLE=31770 Camino Capistrano\, Suite D:geo:-117.6625623,33.5015236
END:VEVENT
END:VCALENDAR